BEGIN:VCALENDAR
VERSION:2.0
PRODID:-//DCN - Sektion Würzburg - ECPv6.15.20//NONSGML v1.0//EN
CALSCALE:GREGORIAN
METHOD:PUBLISH
X-WR-CALNAME:DCN - Sektion Würzburg
X-ORIGINAL-URL:https://www.dcn-wuerzburg.de
X-WR-CALDESC:Veranstaltungen für DCN - Sektion Würzburg
REFRESH-INTERVAL;VALUE=DURATION:PT1H
X-Robots-Tag:noindex
X-PUBLISHED-TTL:PT1H
BEGIN:VTIMEZONE
TZID:Europe/Berlin
BEGIN:DAYLIGHT
TZOFFSETFROM:+0100
TZOFFSETTO:+0200
TZNAME:CEST
DTSTART:20220327T010000
END:DAYLIGHT
BEGIN:STANDARD
TZOFFSETFROM:+0200
TZOFFSETTO:+0100
TZNAME:CET
DTSTART:20221030T010000
END:STANDARD
BEGIN:DAYLIGHT
TZOFFSETFROM:+0100
TZOFFSETTO:+0200
TZNAME:CEST
DTSTART:20230326T010000
END:DAYLIGHT
BEGIN:STANDARD
TZOFFSETFROM:+0200
TZOFFSETTO:+0100
TZNAME:CET
DTSTART:20231029T010000
END:STANDARD
BEGIN:DAYLIGHT
TZOFFSETFROM:+0100
TZOFFSETTO:+0200
TZNAME:CEST
DTSTART:20240331T010000
END:DAYLIGHT
BEGIN:STANDARD
TZOFFSETFROM:+0200
TZOFFSETTO:+0100
TZNAME:CET
DTSTART:20241027T010000
END:STANDARD
END:VTIMEZONE
BEGIN:VEVENT
DTSTART;TZID=Europe/Berlin:20230304T100000
DTEND;TZID=Europe/Berlin:20230304T100000
DTSTAMP:20260422T114859
CREATED:20240712T110249Z
LAST-MODIFIED:20240712T110553Z
UID:4329-1677924000-1677924000@www.dcn-wuerzburg.de
SUMMARY:Zuchtschau mit Zahn- und Rutenstatus
DESCRIPTION:Ort: Walderlebniszentrum Einsiedel im Gramschatzer Wald. \nAnfahrt: A7\, Ausfahrt Nr. 100 „Gramschatzer Wald“\, dann der Ausschilderung folgen. \nKosten:  Zuchtschau = 30\,00 €\,\nZahn- und Rutenstatus = 10\,00 €\, Mindestalter 15 Monate \nRichter: Artur Lewantowitsch (Schöneck) \nZu dieser Zuchtschau muss man sich vorher anmelden unter:\nTel. Nr.: 0177 1729745 oder\nEmail: juergen_reinhart@gmx.de \nZur Anmeldung bitte Kopie der Ahnentafel (Vorder- und Rückseite) schicken. Die Teilnehmer erhalten nach der Meldung eine feste Startzeit zur Präsentation mitgeteilt. \nAnmeldungen sind ab sofort bis 28.02.2023 möglich! \n  \n 
URL:https://www.dcn-wuerzburg.de/veranstaltung/zuchtschau-mit-zahn-und-rutenstatus/
CATEGORIES:Zuchtschauen
END:VEVENT
BEGIN:VEVENT
DTSTART;TZID=Europe/Berlin:20230325T140000
DTEND;TZID=Europe/Berlin:20230325T140000
DTSTAMP:20260422T114859
CREATED:20240712T110401Z
LAST-MODIFIED:20240712T110553Z
UID:4345-1679752800-1679752800@www.dcn-wuerzburg.de
SUMMARY:Beginn BHP 1-Kurs
DESCRIPTION:Der Kurs findet in 97236 Randersacker-Lindelbach bei der Hundeschule von Bianca Richter statt.\n \nInteressenten bitte ab sofort melden bei: \nBianca Richter \nTel. 09303 99764 \n \nMail: hundeschule@lindelbach.de \nKursgebühr: 10 Euro pro Trainingstag! \n 
URL:https://www.dcn-wuerzburg.de/veranstaltung/beginn-bhp-1-kurs/
CATEGORIES:Kurse
END:VEVENT
END:VCALENDAR