BEGIN:VCALENDAR
VERSION:2.0
PRODID:-//DCN - Sektion Würzburg - ECPv6.15.20//NONSGML v1.0//EN
CALSCALE:GREGORIAN
METHOD:PUBLISH
X-ORIGINAL-URL:https://www.dcn-wuerzburg.de
X-WR-CALDESC:Veranstaltungen für DCN - Sektion Würzburg
REFRESH-INTERVAL;VALUE=DURATION:PT1H
X-Robots-Tag:noindex
X-PUBLISHED-TTL:PT1H
BEGIN:VTIMEZONE
TZID:Europe/Berlin
BEGIN:DAYLIGHT
TZOFFSETFROM:+0100
TZOFFSETTO:+0200
TZNAME:CEST
DTSTART:20220327T010000
END:DAYLIGHT
BEGIN:STANDARD
TZOFFSETFROM:+0200
TZOFFSETTO:+0100
TZNAME:CET
DTSTART:20221030T010000
END:STANDARD
BEGIN:DAYLIGHT
TZOFFSETFROM:+0100
TZOFFSETTO:+0200
TZNAME:CEST
DTSTART:20230326T010000
END:DAYLIGHT
BEGIN:STANDARD
TZOFFSETFROM:+0200
TZOFFSETTO:+0100
TZNAME:CET
DTSTART:20231029T010000
END:STANDARD
BEGIN:DAYLIGHT
TZOFFSETFROM:+0100
TZOFFSETTO:+0200
TZNAME:CEST
DTSTART:20240331T010000
END:DAYLIGHT
BEGIN:STANDARD
TZOFFSETFROM:+0200
TZOFFSETTO:+0100
TZNAME:CET
DTSTART:20241027T010000
END:STANDARD
END:VTIMEZONE
BEGIN:VEVENT
DTSTART;TZID=Europe/Berlin:20230108T130000
DTEND;TZID=Europe/Berlin:20230108T130000
DTSTAMP:20260422T150314
CREATED:20240712T110234Z
LAST-MODIFIED:20240712T110553Z
UID:4327-1673182800-1673182800@www.dcn-wuerzburg.de
SUMMARY:Winterwanderung
DESCRIPTION:Wir treffen uns um 13.00 Uhr am Zabelstein-Parkplatz.  \nVon Hundelshausen kommend\, in Richtung Fabrikschleichach fahren\, nach ca. 3\,5 km links von der Straße befindet sich der P-Zabelstein.\nVon Eschenau kommend\, bergan fahren in den Steigerwald\, nach ca. 3\,5 km rechts abbiegen Richtung Hundelshausen\, nach ca. 1 km rechts abbiegen zum P-Zabelstein.\n \nNach der Wanderung kehren wir in der Gaststätte „Zum Böhlgrund“ in Eschenau ein.
URL:https://www.dcn-wuerzburg.de/veranstaltung/winterwanderung-2/
CATEGORIES:Wanderungen
END:VEVENT
BEGIN:VEVENT
DTSTART;TZID=Europe/Berlin:20230120T180000
DTEND;TZID=Europe/Berlin:20230120T180000
DTSTAMP:20260422T150314
CREATED:20240712T110249Z
LAST-MODIFIED:20240712T110553Z
UID:4328-1674237600-1674237600@www.dcn-wuerzburg.de
SUMMARY:Mitgliederversammlung
DESCRIPTION:Im Gasthaus „Zum Böhlgrund“\, August-Wacker-Str.25\, 97478 Knetzgau-Eschenau. \nTagesordnung:\n1.     Begrüßung\, Totengedenken\, Bericht des Sektionsvorsitzenden\n2.     Bericht über die Zucht\n3.     Bericht über die Gebrauchsarbeit\n4.     Bericht über die Zuchtschauen/Ausstellungswesen\n5.     Vergabe der Ehrenpreise\n6.     Bericht der Kassiererin\n7.     Bericht der Kassenprüfer\n8.     Entlastung der Vorstandschaft\n9.     Wahlausschuss bilden\n10.   Wahl der Vorstandschaft\, Obleute\, Delegierte zum DCN\, Kassenprüfer\n11.   Wünsche\, Anträge
URL:https://www.dcn-wuerzburg.de/veranstaltung/mitgliederversammlung-8/
CATEGORIES:Sonstiges
END:VEVENT
END:VCALENDAR