BEGIN:VCALENDAR
VERSION:2.0
PRODID:-//DCN - Sektion Würzburg - ECPv6.15.20//NONSGML v1.0//EN
CALSCALE:GREGORIAN
METHOD:PUBLISH
X-WR-CALNAME:DCN - Sektion Würzburg
X-ORIGINAL-URL:https://www.dcn-wuerzburg.de
X-WR-CALDESC:Veranstaltungen für DCN - Sektion Würzburg
REFRESH-INTERVAL;VALUE=DURATION:PT1H
X-Robots-Tag:noindex
X-PUBLISHED-TTL:PT1H
BEGIN:VTIMEZONE
TZID:Europe/Berlin
BEGIN:DAYLIGHT
TZOFFSETFROM:+0100
TZOFFSETTO:+0200
TZNAME:CEST
DTSTART:20210328T010000
END:DAYLIGHT
BEGIN:STANDARD
TZOFFSETFROM:+0200
TZOFFSETTO:+0100
TZNAME:CET
DTSTART:20211031T010000
END:STANDARD
BEGIN:DAYLIGHT
TZOFFSETFROM:+0100
TZOFFSETTO:+0200
TZNAME:CEST
DTSTART:20220327T010000
END:DAYLIGHT
BEGIN:STANDARD
TZOFFSETFROM:+0200
TZOFFSETTO:+0100
TZNAME:CET
DTSTART:20221030T010000
END:STANDARD
BEGIN:DAYLIGHT
TZOFFSETFROM:+0100
TZOFFSETTO:+0200
TZNAME:CEST
DTSTART:20230326T010000
END:DAYLIGHT
BEGIN:STANDARD
TZOFFSETFROM:+0200
TZOFFSETTO:+0100
TZNAME:CET
DTSTART:20231029T010000
END:STANDARD
END:VTIMEZONE
BEGIN:VEVENT
DTSTART;TZID=Europe/Berlin:20220903T080000
DTEND;TZID=Europe/Berlin:20220903T080000
DTSTAMP:20260422T210245
CREATED:20240712T110118Z
LAST-MODIFIED:20240712T110553Z
UID:4316-1662192000-1662192000@www.dcn-wuerzburg.de
SUMMARY:Vp + Wa.T.
DESCRIPTION:Gaststätte „Zum Böhlgrund“97478 Eschenau\nAugust-Wacker-Str. 25\nTel.: 09527 376 \nGebühr: 80\,00 Euro
URL:https://www.dcn-wuerzburg.de/veranstaltung/vp-wa-t-6/
CATEGORIES:Prüfungen
END:VEVENT
BEGIN:VEVENT
DTSTART;TZID=Europe/Berlin:20220917T000000
DTEND;TZID=Europe/Berlin:20220917T000000
DTSTAMP:20260422T210245
CREATED:20240712T110234Z
LAST-MODIFIED:20240712T110553Z
UID:4323-1663372800-1663372800@www.dcn-wuerzburg.de
SUMMARY:DCN-IntVp
DESCRIPTION:
URL:https://www.dcn-wuerzburg.de/veranstaltung/dcn-intvp-3/
CATEGORIES:Prüfungen
END:VEVENT
BEGIN:VEVENT
DTSTART;TZID=Europe/Berlin:20220918T000000
DTEND;TZID=Europe/Berlin:20220918T000000
DTSTAMP:20260422T210245
CREATED:20240712T110234Z
LAST-MODIFIED:20240712T110553Z
UID:4324-1663459200-1663459200@www.dcn-wuerzburg.de
SUMMARY:DCN-IntVp
DESCRIPTION:
URL:https://www.dcn-wuerzburg.de/veranstaltung/dcn-intvp-4/
CATEGORIES:Prüfungen
END:VEVENT
END:VCALENDAR