BEGIN:VCALENDAR
VERSION:2.0
PRODID:-//DCN - Sektion Würzburg - ECPv6.15.20//NONSGML v1.0//EN
CALSCALE:GREGORIAN
METHOD:PUBLISH
X-WR-CALNAME:DCN - Sektion Würzburg
X-ORIGINAL-URL:https://www.dcn-wuerzburg.de
X-WR-CALDESC:Veranstaltungen für DCN - Sektion Würzburg
REFRESH-INTERVAL;VALUE=DURATION:PT1H
X-Robots-Tag:noindex
X-PUBLISHED-TTL:PT1H
BEGIN:VTIMEZONE
TZID:Europe/Berlin
BEGIN:DAYLIGHT
TZOFFSETFROM:+0100
TZOFFSETTO:+0200
TZNAME:CEST
DTSTART:20190331T010000
END:DAYLIGHT
BEGIN:STANDARD
TZOFFSETFROM:+0200
TZOFFSETTO:+0100
TZNAME:CET
DTSTART:20191027T010000
END:STANDARD
BEGIN:DAYLIGHT
TZOFFSETFROM:+0100
TZOFFSETTO:+0200
TZNAME:CEST
DTSTART:20200329T010000
END:DAYLIGHT
BEGIN:STANDARD
TZOFFSETFROM:+0200
TZOFFSETTO:+0100
TZNAME:CET
DTSTART:20201025T010000
END:STANDARD
BEGIN:DAYLIGHT
TZOFFSETFROM:+0100
TZOFFSETTO:+0200
TZNAME:CEST
DTSTART:20210328T010000
END:DAYLIGHT
BEGIN:STANDARD
TZOFFSETFROM:+0200
TZOFFSETTO:+0100
TZNAME:CET
DTSTART:20211031T010000
END:STANDARD
END:VTIMEZONE
BEGIN:VEVENT
DTSTART;TZID=Europe/Berlin:20200906T080000
DTEND;TZID=Europe/Berlin:20200906T080000
DTSTAMP:20260424T105613
CREATED:20240712T102429Z
LAST-MODIFIED:20240712T110553Z
UID:4281-1599379200-1599379200@www.dcn-wuerzburg.de
SUMMARY:Vp + Wa.T.
DESCRIPTION:Prüfung\nGaststätte „Zum Böhlgrund“\n97478 Eschenau\nAugust-Wacker-Str. 25\nTel.: 09527 376 \nGebühr: 80\,00 Euro
URL:https://www.dcn-wuerzburg.de/veranstaltung/vp-wa-t-4/
CATEGORIES:Prüfungen
END:VEVENT
BEGIN:VEVENT
DTSTART;TZID=Europe/Berlin:20200920T000000
DTEND;TZID=Europe/Berlin:20200920T000000
DTSTAMP:20260424T105613
CREATED:20240712T102629Z
LAST-MODIFIED:20240712T110553Z
UID:4287-1600560000-1600560000@www.dcn-wuerzburg.de
SUMMARY:SchwhK/40
DESCRIPTION:
URL:https://www.dcn-wuerzburg.de/veranstaltung/schwhk-40-3/
CATEGORIES:Prüfungen
END:VEVENT
BEGIN:VEVENT
DTSTART;TZID=Europe/Berlin:20200926T000000
DTEND;TZID=Europe/Berlin:20200926T000000
DTSTAMP:20260424T105613
CREATED:20240712T102830Z
LAST-MODIFIED:20240712T110553Z
UID:4288-1601078400-1601078400@www.dcn-wuerzburg.de
SUMMARY:IntVp
DESCRIPTION:
URL:https://www.dcn-wuerzburg.de/veranstaltung/intvp-3/
CATEGORIES:Prüfungen
END:VEVENT
BEGIN:VEVENT
DTSTART;TZID=Europe/Berlin:20200927T000000
DTEND;TZID=Europe/Berlin:20200927T000000
DTSTAMP:20260424T105613
CREATED:20240712T102830Z
LAST-MODIFIED:20240712T110553Z
UID:4289-1601164800-1601164800@www.dcn-wuerzburg.de
SUMMARY:IntVp
DESCRIPTION:
URL:https://www.dcn-wuerzburg.de/veranstaltung/intvp-4/
CATEGORIES:Prüfungen
END:VEVENT
END:VCALENDAR