BEGIN:VCALENDAR
VERSION:2.0
PRODID:-//DCN - Sektion Würzburg - ECPv6.15.20//NONSGML v1.0//EN
CALSCALE:GREGORIAN
METHOD:PUBLISH
X-ORIGINAL-URL:https://www.dcn-wuerzburg.de
X-WR-CALDESC:Veranstaltungen für DCN - Sektion Würzburg
REFRESH-INTERVAL;VALUE=DURATION:PT1H
X-Robots-Tag:noindex
X-PUBLISHED-TTL:PT1H
BEGIN:VTIMEZONE
TZID:Europe/Berlin
BEGIN:DAYLIGHT
TZOFFSETFROM:+0100
TZOFFSETTO:+0200
TZNAME:CEST
DTSTART:20190331T010000
END:DAYLIGHT
BEGIN:STANDARD
TZOFFSETFROM:+0200
TZOFFSETTO:+0100
TZNAME:CET
DTSTART:20191027T010000
END:STANDARD
BEGIN:DAYLIGHT
TZOFFSETFROM:+0100
TZOFFSETTO:+0200
TZNAME:CEST
DTSTART:20200329T010000
END:DAYLIGHT
BEGIN:STANDARD
TZOFFSETFROM:+0200
TZOFFSETTO:+0100
TZNAME:CET
DTSTART:20201025T010000
END:STANDARD
BEGIN:DAYLIGHT
TZOFFSETFROM:+0100
TZOFFSETTO:+0200
TZNAME:CEST
DTSTART:20210328T010000
END:DAYLIGHT
BEGIN:STANDARD
TZOFFSETFROM:+0200
TZOFFSETTO:+0100
TZNAME:CET
DTSTART:20211031T010000
END:STANDARD
END:VTIMEZONE
BEGIN:VEVENT
DTSTART;TZID=Europe/Berlin:20200112T130000
DTEND;TZID=Europe/Berlin:20200112T130000
DTSTAMP:20260424T224223
CREATED:20240712T102229Z
LAST-MODIFIED:20240712T110553Z
UID:4275-1578834000-1578834000@www.dcn-wuerzburg.de
SUMMARY:Winterwanderung mit Dackelstammtisch
DESCRIPTION:Unsere Winterwanderung führt durch den schönen Steigerwald. Treffpunkt ist:\nGaststätte „Zum Böhlgrund“\n97478 Eschenau\nAugust-Wacker-Str. 25\nTel.: 09527 376 \nAnschließend Dackelstammtisch!
URL:https://www.dcn-wuerzburg.de/veranstaltung/winterwanderung-mit-dackelstammtisch-2/
CATEGORIES:Wanderungen
END:VEVENT
END:VCALENDAR