BEGIN:VCALENDAR
VERSION:2.0
PRODID:-//DCN - Sektion Würzburg - ECPv6.15.20//NONSGML v1.0//EN
CALSCALE:GREGORIAN
METHOD:PUBLISH
X-WR-CALNAME:DCN - Sektion Würzburg
X-ORIGINAL-URL:https://www.dcn-wuerzburg.de
X-WR-CALDESC:Veranstaltungen für DCN - Sektion Würzburg
REFRESH-INTERVAL;VALUE=DURATION:PT1H
X-Robots-Tag:noindex
X-PUBLISHED-TTL:PT1H
BEGIN:VTIMEZONE
TZID:Europe/Berlin
BEGIN:DAYLIGHT
TZOFFSETFROM:+0100
TZOFFSETTO:+0200
TZNAME:CEST
DTSTART:20180325T010000
END:DAYLIGHT
BEGIN:STANDARD
TZOFFSETFROM:+0200
TZOFFSETTO:+0100
TZNAME:CET
DTSTART:20181028T010000
END:STANDARD
BEGIN:DAYLIGHT
TZOFFSETFROM:+0100
TZOFFSETTO:+0200
TZNAME:CEST
DTSTART:20190331T010000
END:DAYLIGHT
BEGIN:STANDARD
TZOFFSETFROM:+0200
TZOFFSETTO:+0100
TZNAME:CET
DTSTART:20191027T010000
END:STANDARD
BEGIN:DAYLIGHT
TZOFFSETFROM:+0100
TZOFFSETTO:+0200
TZNAME:CEST
DTSTART:20200329T010000
END:DAYLIGHT
BEGIN:STANDARD
TZOFFSETFROM:+0200
TZOFFSETTO:+0100
TZNAME:CET
DTSTART:20201025T010000
END:STANDARD
END:VTIMEZONE
BEGIN:VEVENT
DTSTART;TZID=Europe/Berlin:20190406T160000
DTEND;TZID=Europe/Berlin:20190406T160000
DTSTAMP:20260425T123019
CREATED:20240712T101835Z
LAST-MODIFIED:20240712T110603Z
UID:4261-1554566400-1554566400@www.dcn-wuerzburg.de
SUMMARY:Beginn BHP-Kurs
DESCRIPTION: \nGaststätte „Zum Böhlgrund“\n97478 Eschenau\nAugust-Wacker-Str. 25\nTel.: 09527 376 \nKursgebühr: 70 Euro
URL:https://www.dcn-wuerzburg.de/veranstaltung/beginn-bhp-kurs/
CATEGORIES:Kurse
END:VEVENT
BEGIN:VEVENT
DTSTART;TZID=Europe/Berlin:20190413T000000
DTEND;TZID=Europe/Berlin:20190413T000000
DTSTAMP:20260425T123019
CREATED:20240712T102035Z
LAST-MODIFIED:20240712T110603Z
UID:4263-1555113600-1555113600@www.dcn-wuerzburg.de
SUMMARY:DCN Delegiertenversammlung
DESCRIPTION:
URL:https://www.dcn-wuerzburg.de/veranstaltung/dcn-delegiertenversammlung-6/
CATEGORIES:Sonstiges
END:VEVENT
BEGIN:VEVENT
DTSTART;TZID=Europe/Berlin:20190414T090000
DTEND;TZID=Europe/Berlin:20190414T090000
DTSTAMP:20260425T123019
CREATED:20240712T101835Z
LAST-MODIFIED:20240712T110553Z
UID:4262-1555232400-1555232400@www.dcn-wuerzburg.de
SUMMARY:Spurlaut
DESCRIPTION:Spurlaut-Prüfung\nTreffpunkt:\nSportheim in Grafenrheinfeld\nGochsheimer Straße/Ecke Hermasweg 2\n97506 Grafenrheinfeld \nGebühr: 50 Euro
URL:https://www.dcn-wuerzburg.de/veranstaltung/spurlaut-5/
CATEGORIES:Prüfungen
END:VEVENT
END:VCALENDAR