BEGIN:VCALENDAR
VERSION:2.0
PRODID:-//DCN - Sektion Würzburg - ECPv6.15.20//NONSGML v1.0//EN
CALSCALE:GREGORIAN
METHOD:PUBLISH
X-WR-CALNAME:DCN - Sektion Würzburg
X-ORIGINAL-URL:https://www.dcn-wuerzburg.de
X-WR-CALDESC:Veranstaltungen für DCN - Sektion Würzburg
REFRESH-INTERVAL;VALUE=DURATION:PT1H
X-Robots-Tag:noindex
X-PUBLISHED-TTL:PT1H
BEGIN:VTIMEZONE
TZID:Europe/Berlin
BEGIN:DAYLIGHT
TZOFFSETFROM:+0100
TZOFFSETTO:+0200
TZNAME:CEST
DTSTART:20230326T010000
END:DAYLIGHT
BEGIN:STANDARD
TZOFFSETFROM:+0200
TZOFFSETTO:+0100
TZNAME:CET
DTSTART:20231029T010000
END:STANDARD
BEGIN:DAYLIGHT
TZOFFSETFROM:+0100
TZOFFSETTO:+0200
TZNAME:CEST
DTSTART:20240331T010000
END:DAYLIGHT
BEGIN:STANDARD
TZOFFSETFROM:+0200
TZOFFSETTO:+0100
TZNAME:CET
DTSTART:20241027T010000
END:STANDARD
BEGIN:DAYLIGHT
TZOFFSETFROM:+0100
TZOFFSETTO:+0200
TZNAME:CEST
DTSTART:20250330T010000
END:DAYLIGHT
BEGIN:STANDARD
TZOFFSETFROM:+0200
TZOFFSETTO:+0100
TZNAME:CET
DTSTART:20251026T010000
END:STANDARD
END:VTIMEZONE
BEGIN:VEVENT
DTSTART;TZID=Europe/Berlin:20240308T180000
DTEND;TZID=Europe/Berlin:20240308T180000
DTSTAMP:20260421T183443
CREATED:20240712T110446Z
LAST-MODIFIED:20240712T110553Z
UID:4362-1709920800-1709920800@www.dcn-wuerzburg.de
SUMMARY:Jahreshauptversammlung
DESCRIPTION:Im Gasthaus „Zum Böhlgrund“\, August-Wacker-Str.25\, 97478 Knetzgau-Eschenau. \nTagesordnung:\n1.     Begrüßung\, Totengedenken\, Bericht des Sektionsvorsitzenden\n2.     Bericht über die Zucht\n3.     Bericht über die Gebrauchsarbeit\n4.     Bericht über die Zuchtschauen/Ausstellungswesen\n5.     Vergabe der Ehrenpreise\n6.     Bericht der Kassiererin\n7.     Bericht der Kassenprüfer\n8.     Entlastung der Vorstandschaft\n9.     Wünsche\, Anträge
URL:https://www.dcn-wuerzburg.de/veranstaltung/jahreshauptversammlung/
CATEGORIES:Sonstiges
END:VEVENT
END:VCALENDAR