BEGIN:VCALENDAR
VERSION:2.0
PRODID:-//DCN - Sektion Würzburg - ECPv6.15.20//NONSGML v1.0//EN
CALSCALE:GREGORIAN
METHOD:PUBLISH
X-WR-CALNAME:DCN - Sektion Würzburg
X-ORIGINAL-URL:https://www.dcn-wuerzburg.de
X-WR-CALDESC:Veranstaltungen für DCN - Sektion Würzburg
REFRESH-INTERVAL;VALUE=DURATION:PT1H
X-Robots-Tag:noindex
X-PUBLISHED-TTL:PT1H
BEGIN:VTIMEZONE
TZID:Europe/Berlin
BEGIN:DAYLIGHT
TZOFFSETFROM:+0100
TZOFFSETTO:+0200
TZNAME:CEST
DTSTART:20230326T010000
END:DAYLIGHT
BEGIN:STANDARD
TZOFFSETFROM:+0200
TZOFFSETTO:+0100
TZNAME:CET
DTSTART:20231029T010000
END:STANDARD
BEGIN:DAYLIGHT
TZOFFSETFROM:+0100
TZOFFSETTO:+0200
TZNAME:CEST
DTSTART:20240331T010000
END:DAYLIGHT
BEGIN:STANDARD
TZOFFSETFROM:+0200
TZOFFSETTO:+0100
TZNAME:CET
DTSTART:20241027T010000
END:STANDARD
BEGIN:DAYLIGHT
TZOFFSETFROM:+0100
TZOFFSETTO:+0200
TZNAME:CEST
DTSTART:20250330T010000
END:DAYLIGHT
BEGIN:STANDARD
TZOFFSETFROM:+0200
TZOFFSETTO:+0100
TZNAME:CET
DTSTART:20251026T010000
END:STANDARD
END:VTIMEZONE
BEGIN:VEVENT
DTSTART;TZID=Europe/Berlin:20240303T100000
DTEND;TZID=Europe/Berlin:20240303T100000
DTSTAMP:20260421T200308
CREATED:20240712T110416Z
LAST-MODIFIED:20240712T110553Z
UID:4352-1709460000-1709460000@www.dcn-wuerzburg.de
SUMMARY:Zuchtschau mit Zahn- und Rutenstatus
DESCRIPTION:Ort: Sportheim des SV Mönchstockheim\, Ortsteil der Gemeinde Sulzheim.Die Adresse fürs Navi: 97529 Sulzheim\, Am Sportplatz 30\n\n\nKosten:  Zuchtschau 30 Euro \nZahn- und Rutenstatus = 10\,00 €\, Mindestalter 15 Monate \nRichter: Georg Lang\, Blaustein \nVoranmeldung erbeten unter 0177 1729745 oder Email: dcn-wuerzburg@gmx.de  \n 
URL:https://www.dcn-wuerzburg.de/veranstaltung/zuchtschau-mit-zahn-und-rutenstatus-3/
CATEGORIES:Zuchtschauen
END:VEVENT
END:VCALENDAR