BEGIN:VCALENDAR
VERSION:2.0
PRODID:-//DCN - Sektion Würzburg - ECPv6.15.20//NONSGML v1.0//EN
CALSCALE:GREGORIAN
METHOD:PUBLISH
X-ORIGINAL-URL:https://www.dcn-wuerzburg.de
X-WR-CALDESC:Veranstaltungen für DCN - Sektion Würzburg
REFRESH-INTERVAL;VALUE=DURATION:PT1H
X-Robots-Tag:noindex
X-PUBLISHED-TTL:PT1H
BEGIN:VTIMEZONE
TZID:Europe/Berlin
BEGIN:DAYLIGHT
TZOFFSETFROM:+0100
TZOFFSETTO:+0200
TZNAME:CEST
DTSTART:20220327T010000
END:DAYLIGHT
BEGIN:STANDARD
TZOFFSETFROM:+0200
TZOFFSETTO:+0100
TZNAME:CET
DTSTART:20221030T010000
END:STANDARD
BEGIN:DAYLIGHT
TZOFFSETFROM:+0100
TZOFFSETTO:+0200
TZNAME:CEST
DTSTART:20230326T010000
END:DAYLIGHT
BEGIN:STANDARD
TZOFFSETFROM:+0200
TZOFFSETTO:+0100
TZNAME:CET
DTSTART:20231029T010000
END:STANDARD
BEGIN:DAYLIGHT
TZOFFSETFROM:+0100
TZOFFSETTO:+0200
TZNAME:CEST
DTSTART:20240331T010000
END:DAYLIGHT
BEGIN:STANDARD
TZOFFSETFROM:+0200
TZOFFSETTO:+0100
TZNAME:CET
DTSTART:20241027T010000
END:STANDARD
END:VTIMEZONE
BEGIN:VEVENT
DTSTART;TZID=Europe/Berlin:20230716T130000
DTEND;TZID=Europe/Berlin:20230716T130000
DTSTAMP:20260422T070854
CREATED:20240712T110249Z
LAST-MODIFIED:20240712T110553Z
UID:4332-1689512400-1689512400@www.dcn-wuerzburg.de
SUMMARY:Sommerwanderung
DESCRIPTION:Treffpunkt um 13:00 Uhr am Parkplatz Walderlebniszentrum Gramschatzer Wald\, Einsiedel 1\, 97222 Rimpar. \nUm Voranmeldung bei Jürgen Reinhart (juergen_reinhart@gmx.de) wird gebeten! \n 
URL:https://www.dcn-wuerzburg.de/veranstaltung/sommerwanderung-2/
CATEGORIES:Wanderungen
END:VEVENT
END:VCALENDAR