BEGIN:VCALENDAR
VERSION:2.0
PRODID:-//DCN - Sektion Würzburg - ECPv6.15.20//NONSGML v1.0//EN
CALSCALE:GREGORIAN
METHOD:PUBLISH
X-ORIGINAL-URL:https://www.dcn-wuerzburg.de
X-WR-CALDESC:Veranstaltungen für DCN - Sektion Würzburg
REFRESH-INTERVAL;VALUE=DURATION:PT1H
X-Robots-Tag:noindex
X-PUBLISHED-TTL:PT1H
BEGIN:VTIMEZONE
TZID:Europe/Berlin
BEGIN:DAYLIGHT
TZOFFSETFROM:+0100
TZOFFSETTO:+0200
TZNAME:CEST
DTSTART:20220327T010000
END:DAYLIGHT
BEGIN:STANDARD
TZOFFSETFROM:+0200
TZOFFSETTO:+0100
TZNAME:CET
DTSTART:20221030T010000
END:STANDARD
BEGIN:DAYLIGHT
TZOFFSETFROM:+0100
TZOFFSETTO:+0200
TZNAME:CEST
DTSTART:20230326T010000
END:DAYLIGHT
BEGIN:STANDARD
TZOFFSETFROM:+0200
TZOFFSETTO:+0100
TZNAME:CET
DTSTART:20231029T010000
END:STANDARD
BEGIN:DAYLIGHT
TZOFFSETFROM:+0100
TZOFFSETTO:+0200
TZNAME:CEST
DTSTART:20240331T010000
END:DAYLIGHT
BEGIN:STANDARD
TZOFFSETFROM:+0200
TZOFFSETTO:+0100
TZNAME:CET
DTSTART:20241027T010000
END:STANDARD
END:VTIMEZONE
BEGIN:VEVENT
DTSTART;TZID=Europe/Berlin:20230422T100000
DTEND;TZID=Europe/Berlin:20230422T100000
DTSTAMP:20260422T115145
CREATED:20240712T110345Z
LAST-MODIFIED:20240712T110553Z
UID:4338-1682157600-1682157600@www.dcn-wuerzburg.de
SUMMARY:DCN-Delegiertenversammlung
DESCRIPTION:Gaststätte zur Linde – Familie Bromm“\, Finsterbachstr. 15\, 91154 Roth-Pruppach.
URL:https://www.dcn-wuerzburg.de/veranstaltung/dcn-delegiertenversammlung-8/
CATEGORIES:Sonstiges
END:VEVENT
BEGIN:VEVENT
DTSTART;TZID=Europe/Berlin:20230422T100000
DTEND;TZID=Europe/Berlin:20230422T100000
DTSTAMP:20260422T115145
CREATED:20240712T110401Z
LAST-MODIFIED:20240712T110553Z
UID:4347-1682157600-1682157600@www.dcn-wuerzburg.de
SUMMARY:DCN Delegiertenversammlung
DESCRIPTION:DCN-Delegiertenversammlung\n\nGaststätte zur Linde – Familie Bromm“\, Finsterbachstr. 15\, 91154 Roth-Pruppach.
URL:https://www.dcn-wuerzburg.de/veranstaltung/dcn-delegiertenversammlung-9/
CATEGORIES:Sonstiges
END:VEVENT
BEGIN:VEVENT
DTSTART;TZID=Europe/Berlin:20230422T140000
DTEND;TZID=Europe/Berlin:20230422T140000
DTSTAMP:20260422T115145
CREATED:20240712T110401Z
LAST-MODIFIED:20240712T110553Z
UID:4346-1682172000-1682172000@www.dcn-wuerzburg.de
SUMMARY:BHP 1 - Prüfung
DESCRIPTION:Hundeschule Bianca Richter\nTriebweg 1\n97236 Lindelbach bei Randersacker \nRichterin: Ramona Heider (Etzelwang)
URL:https://www.dcn-wuerzburg.de/veranstaltung/bhp-1-pruefung/
CATEGORIES:Prüfungen
END:VEVENT
END:VCALENDAR