BEGIN:VCALENDAR
VERSION:2.0
PRODID:-//DCN - Sektion Würzburg - ECPv6.15.20//NONSGML v1.0//EN
CALSCALE:GREGORIAN
METHOD:PUBLISH
X-WR-CALNAME:DCN - Sektion Würzburg
X-ORIGINAL-URL:https://www.dcn-wuerzburg.de
X-WR-CALDESC:Veranstaltungen für DCN - Sektion Würzburg
REFRESH-INTERVAL;VALUE=DURATION:PT1H
X-Robots-Tag:noindex
X-PUBLISHED-TTL:PT1H
BEGIN:VTIMEZONE
TZID:Europe/Berlin
BEGIN:DAYLIGHT
TZOFFSETFROM:+0100
TZOFFSETTO:+0200
TZNAME:CEST
DTSTART:20180325T010000
END:DAYLIGHT
BEGIN:STANDARD
TZOFFSETFROM:+0200
TZOFFSETTO:+0100
TZNAME:CET
DTSTART:20181028T010000
END:STANDARD
BEGIN:DAYLIGHT
TZOFFSETFROM:+0100
TZOFFSETTO:+0200
TZNAME:CEST
DTSTART:20190331T010000
END:DAYLIGHT
BEGIN:STANDARD
TZOFFSETFROM:+0200
TZOFFSETTO:+0100
TZNAME:CET
DTSTART:20191027T010000
END:STANDARD
BEGIN:DAYLIGHT
TZOFFSETFROM:+0100
TZOFFSETTO:+0200
TZNAME:CEST
DTSTART:20200329T010000
END:DAYLIGHT
BEGIN:STANDARD
TZOFFSETFROM:+0200
TZOFFSETTO:+0100
TZNAME:CET
DTSTART:20201025T010000
END:STANDARD
END:VTIMEZONE
BEGIN:VEVENT
DTSTART;TZID=Europe/Berlin:20190315T200000
DTEND;TZID=Europe/Berlin:20190315T200000
DTSTAMP:20260425T154007
CREATED:20240712T101835Z
LAST-MODIFIED:20240712T110603Z
UID:4260-1552680000-1552680000@www.dcn-wuerzburg.de
SUMMARY:Mitgliederversammlung
DESCRIPTION:Mitgliederversammlung der Sektion Würzburg mit anschließendem Dackelstammtisch.\nGaststätte „Zum Böhlgrund“\n97478 Eschenau\nAugust-Wacker-Str. 25\nTel.: 09527 376 \nTagesordnung:\n1. Begrüßung\, Totengedenken\, Bericht des Sektionsvorsitzenden\n2. Bericht über die Zucht\n3. Bericht über die Gebrauchsarbeit\n4. Bericht über die Zuchtschauen/Ausstellungswesen\n5. Vergabe der Ehrenpreise\n6. Bericht der Kassiererin\n7. Bericht der Kassenprüfer\n8. Entlastung der Vorstandschaft\n9. Wahlen\n10. Wünsche\, Anträge \n  \n 
URL:https://www.dcn-wuerzburg.de/veranstaltung/mitgliederversammlung-5/
CATEGORIES:Sonstiges
END:VEVENT
END:VCALENDAR